BEGIN:VCALENDAR
VERSION:2.0
PRODID:-//kai test - ECPv6.15.20//NONSGML v1.0//EN
CALSCALE:GREGORIAN
METHOD:PUBLISH
X-ORIGINAL-URL:https://aistralis2.pfmevents.com.au
X-WR-CALDESC:Events for kai test
REFRESH-INTERVAL;VALUE=DURATION:PT1H
X-Robots-Tag:noindex
X-PUBLISHED-TTL:PT1H
BEGIN:VTIMEZONE
TZID:Australia/Sydney
BEGIN:STANDARD
TZOFFSETFROM:+1100
TZOFFSETTO:+1000
TZNAME:AEST
DTSTART:20250405T160000
END:STANDARD
BEGIN:DAYLIGHT
TZOFFSETFROM:+1000
TZOFFSETTO:+1100
TZNAME:AEDT
DTSTART:20251004T160000
END:DAYLIGHT
BEGIN:STANDARD
TZOFFSETFROM:+1100
TZOFFSETTO:+1000
TZNAME:AEST
DTSTART:20260404T160000
END:STANDARD
BEGIN:DAYLIGHT
TZOFFSETFROM:+1000
TZOFFSETTO:+1100
TZNAME:AEDT
DTSTART:20261003T160000
END:DAYLIGHT
BEGIN:STANDARD
TZOFFSETFROM:+1100
TZOFFSETTO:+1000
TZNAME:AEST
DTSTART:20270403T160000
END:STANDARD
BEGIN:DAYLIGHT
TZOFFSETFROM:+1000
TZOFFSETTO:+1100
TZNAME:AEDT
DTSTART:20271002T160000
END:DAYLIGHT
END:VTIMEZONE
BEGIN:VEVENT
DTSTART;TZID=Australia/Sydney:20260205T080000
DTEND;TZID=Australia/Sydney:20260205T170000
DTSTAMP:20260419T234024
CREATED:20260205T055452Z
LAST-MODIFIED:20260205T055455Z
UID:1384-1770278400-1770310800@aistralis2.pfmevents.com.au
SUMMARY:test rsvp
DESCRIPTION:Learn The 8-Step Process We Used to Start a Successful Podcast\n\n\n\nBysaylorApril 23\, 2021Sed arcu non odio euismod lacinia. Sit amet cursus sit amet dictum sit. Nunc pulvinar sapien et ligula ullamcorper. Pellentesque diam volutpat commodo sed egestas. Tellus elementum sagittis vitae et leo duis ut diam quam. Eleifend donec pretium vulputate sapien nec sagittis aliquam malesuada bibendum. At risus viverra adipiscing at in tellus. Duis at tellus at urna condimentum mattis pellentesque.
URL:https://aistralis2.pfmevents.com.au/ai-event-australia/test-rsvp/
LOCATION:Testhub
END:VEVENT
END:VCALENDAR